BEGIN:VCALENDAR
VERSION:2.0
PRODID:-//HANEN - ECPv4.3.2//NONSGML v1.0//EN
CALSCALE:GREGORIAN
METHOD:PUBLISH
X-WR-CALNAME:HANEN
X-ORIGINAL-URL:https://medlem.hanen.no
X-WR-CALDESC:Events for HANEN
BEGIN:VEVENT
DTSTART;TZID=Europe/Oslo:20130922T200000
DTEND;TZID=Europe/Oslo:20130922T200000
DTSTAMP:20260420T084231
CREATED:20130919T053815Z
LAST-MODIFIED:20130919T062743Z
UID:913-1379880000-1379880000@medlem.hanen.no
SUMMARY:"World music for the soul" på Fausko Skysstasjon
DESCRIPTION:\n\nFausko Skysstasjon arrangerer ACOUSTIC EIDOLON & Thomas Loefke . «World music for the soul» - Keltisk\, irsk\, skotsk! Dette er musikk for sjela med keltisk harpe\, cello\, gitar og dobbelhals guitjo. Velkomen til ei sjeldan vakker musikkoppleving.
URL:https://medlem.hanen.no/arrangement/world-music-for-the-soul-pa-fausko-skysstasjon/
LOCATION:Hemsedal\, 3560\, Norge
CATEGORIES:Buskerud
ORGANIZER;CN="Fausko%20Skysstasjon":MAILTO:knut@fausko.no
END:VEVENT
END:VCALENDAR