BEGIN:VCALENDAR
VERSION:2.0
PRODID:-//HANEN - ECPv4.3.2//NONSGML v1.0//EN
CALSCALE:GREGORIAN
METHOD:PUBLISH
X-WR-CALNAME:HANEN
X-ORIGINAL-URL:https://medlem.hanen.no
X-WR-CALDESC:Events for HANEN
BEGIN:VEVENT
DTSTART;TZID=Europe/Oslo:20150430T180000
DTEND;TZID=Europe/Oslo:20150430T220000
DTSTAMP:20260420T101053
CREATED:20150422T122251Z
LAST-MODIFIED:20150422T122309Z
UID:2446-1430416800-1430431200@medlem.hanen.no
SUMMARY:Vin og god mat i hyggelig lag
DESCRIPTION:Møt våren og de lyse kveldene med en deilig økologisk middag og vin i det vakre drivhuset i cedertre eller på terrassen hvis været tillater det. Vi serverer blant annet grillet økologisk kylling fra Stange\, marinert i kaffe og rom\, en vårlig salat med smak av skogen og de første nypotetene.  Til dessert kan du velge mellom oster fra Eiker Gårdsysteri eller noe søtt til kaffen. Muligheter for overnatting med frokost. Fredag 1. mai er fridag for de fleste. Det er mange flotte turer og ekskursjoner å kombinere et opphold på gården med. Velkommen!
URL:https://medlem.hanen.no/arrangement/vin-og-god-mat-i-hyggelig-lag/
LOCATION:Kjønnerødveien 251\, Ramnes i Vestfold\, Ramnes\, 3175\, Norge
GEO:59.3849681;10.2021372
X-APPLE-STRUCTURED-LOCATION;VALUE=URI;X-ADDRESS=Kjønnerødveien 251 Ramnes i Vestfold Ramnes 3175 Norge;X-APPLE-RADIUS=500;X-TITLE=Kjønnerødveien 251:geo:10.2021372,59.3849681
CATEGORIES:Vestfold
ATTACH;FMTTYPE=image/png:https://medlem.hanen.no/wp-content/uploads/2015/04/hvitveiseng-natur-drivhus.png
ORGANIZER;CN="%C3%98vre%20Sukke%20G%C3%A5rd":MAILTO:post@sukkegard.no
END:VEVENT
END:VCALENDAR