BEGIN:VCALENDAR
VERSION:2.0
PRODID:-//HANEN - ECPv4.3.2//NONSGML v1.0//EN
CALSCALE:GREGORIAN
METHOD:PUBLISH
X-WR-CALNAME:HANEN
X-ORIGINAL-URL:https://medlem.hanen.no
X-WR-CALDESC:Events for HANEN
BEGIN:VEVENT
DTSTART;TZID=Europe/Oslo:20170802T193000
DTEND;TZID=Europe/Oslo:20170802T193000
DTSTAMP:20260421T083450
CREATED:20170420T083624Z
LAST-MODIFIED:20170420T083624Z
UID:18442-1501702200-1501702200@medlem.hanen.no
SUMMARY:Vamp
DESCRIPTION:Konsert i Riddersalen.\n\nMer info
URL:https://medlem.hanen.no/arrangement/vamp-2/
LOCATION:Postboks 235\, Rosendal\, 5486 
CATEGORIES:Hordaland
ATTACH;FMTTYPE=image/png:https://medlem.hanen.no/wp-content/uploads/2017/04/Vamp.png
END:VEVENT
END:VCALENDAR