BEGIN:VCALENDAR
VERSION:2.0
PRODID:-//HANEN - ECPv4.3.2//NONSGML v1.0//EN
CALSCALE:GREGORIAN
METHOD:PUBLISH
X-WR-CALNAME:HANEN
X-ORIGINAL-URL:https://medlem.hanen.no
X-WR-CALDESC:Events for HANEN
BEGIN:VEVENT
DTSTART;TZID=Europe/Oslo:20181013T170000
DTEND;TZID=Europe/Oslo:20181013T180000
DTSTAMP:20260420T084055
CREATED:20180821T135425Z
LAST-MODIFIED:20180821T135425Z
UID:22335-1539450000-1539453600@medlem.hanen.no
SUMMARY:Urskogens hemmeligheter - foredrag med Trude Myhre
DESCRIPTION:Skogbiolog Trude Myhre kommer denne helgen til Hindsæter for å være med på urskogsafari og gi oss noen innblikk i skogens hemmeligheter etterpå. Foredrag kl 17 er gratis for alle interesserte\, men vi ber om påmelding!
URL:https://medlem.hanen.no/arrangement/urskogens-hemmeligheter-foredrag-med-trude-myhre/
LOCATION:Sjodalsveien \, Tessanden\, 1549 \, Norge
CATEGORIES:Oppland
ATTACH;FMTTYPE=image/jpeg:https://medlem.hanen.no/wp-content/uploads/2018/08/h3.jpg
ORGANIZER;CN="Hinds%C3%A6ter":MAILTO:post@hindseter.no
END:VEVENT
END:VCALENDAR