BEGIN:VCALENDAR
VERSION:2.0
PRODID:-//HANEN - ECPv4.3.2//NONSGML v1.0//EN
CALSCALE:GREGORIAN
METHOD:PUBLISH
X-WR-CALNAME:HANEN
X-ORIGINAL-URL:https://medlem.hanen.no
X-WR-CALDESC:Events for HANEN
BEGIN:VEVENT
DTSTART;TZID=Europe/Oslo:20170605T110000
DTEND;TZID=Europe/Oslo:20170605T150000
DTSTAMP:20260421T085656
CREATED:20170519T113108Z
LAST-MODIFIED:20170519T113108Z
UID:19249-1496660400-1496674800@medlem.hanen.no
SUMMARY:Tingvollost har kuslepp med åpen gardsbutikk
DESCRIPTION:Velkommen til kuslepp med åpen gardsbutikk 2. pinsedag!\n\nGardsbutikken med kraftkar-garanti er åpen klokka 11-15\, mens fjøsdøra blir åpnet klokka 13. Da får kyrne løpe ut. Vi tar ut fjøsdøra og de får gå inn og ut som de vil av fjøset resten av sommeren. Utenfor gardsbutikken har vi kaninunger\, kopplam og kalver.\n\nLes mer
URL:https://medlem.hanen.no/arrangement/tingvollost-har-kuslepp-med-apen-gardsbutikk/
LOCATION:Torjulvågen\, 6629
GEO:62.9747064;8.2423524
CATEGORIES:Møre og Romsdal
ATTACH;FMTTYPE=image/gif:https://medlem.hanen.no/wp-content/uploads/2017/05/Kuslepp.gif
END:VEVENT
END:VCALENDAR