BEGIN:VCALENDAR
VERSION:2.0
PRODID:-//HANEN - ECPv4.3.2//NONSGML v1.0//EN
CALSCALE:GREGORIAN
METHOD:PUBLISH
X-WR-CALNAME:HANEN
X-ORIGINAL-URL:https://medlem.hanen.no
X-WR-CALDESC:Events for HANEN
BEGIN:VEVENT
DTSTART;TZID=Europe/Oslo:20150715T170000
DTEND;TZID=Europe/Oslo:20150715T190000
DTSTAMP:20260420T083900
CREATED:20150625T212020Z
LAST-MODIFIED:20150628T142920Z
UID:12525-1436979600-1436986800@medlem.hanen.no
SUMMARY:Thomas Dybdal på Baroniet
DESCRIPTION:\nThomas Dybdahl holder to konserter på Borggården hos Baroniet i Rosendal. Konsertene blir fylt med sang\, gitar og klaver og starter kl 17.00 og kl 19.30. Vell verdt å få med seg!\nFørstemann-til-mølla billetter til de første 70 personene!
URL:https://medlem.hanen.no/arrangement/thomas-dybdal-pa-baroniet/
LOCATION:Postboks 235\, Rosendal\, 5486 
ATTACH;FMTTYPE=image/jpeg:https://medlem.hanen.no/wp-content/uploads/2015/06/ThomasDybdahl2.jpg
END:VEVENT
END:VCALENDAR