BEGIN:VCALENDAR
VERSION:2.0
PRODID:-//HANEN - ECPv4.3.2//NONSGML v1.0//EN
CALSCALE:GREGORIAN
METHOD:PUBLISH
X-WR-CALNAME:HANEN
X-ORIGINAL-URL:https://medlem.hanen.no
X-WR-CALDESC:Events for HANEN
BEGIN:VEVENT
DTSTART;VALUE=DATE:20160715
DTEND;VALUE=DATE:20160716
DTSTAMP:20260421T085919
CREATED:20160510T084504Z
LAST-MODIFIED:20160510T084504Z
UID:14737-1468540800-1468713599@medlem.hanen.no
SUMMARY:The Festival Players fra England med William Shakespeare`s  Hamlet
DESCRIPTION:Besøk vår hjemmeside for mer informasjon om arrangementet og billettbestilling.\n\nMer informasjon info@baroniet.no\n\n \n\nVelkommen!
URL:https://medlem.hanen.no/arrangement/the-festival-players-fra-england-med-william-shakespeares-hamlet/
LOCATION:Postboks 235\, Rosendal\, 5486 
CATEGORIES:Hordaland
ATTACH;FMTTYPE=image/png:https://medlem.hanen.no/wp-content/uploads/2016/05/Skjermbilde-14.png
ORGANIZER;CN="Baroniet%20Rosendal%20":MAILTO:info@baroniet.no
END:VEVENT
END:VCALENDAR