BEGIN:VCALENDAR
VERSION:2.0
PRODID:-//HANEN - ECPv4.3.2//NONSGML v1.0//EN
CALSCALE:GREGORIAN
METHOD:PUBLISH
X-WR-CALNAME:HANEN
X-ORIGINAL-URL:https://medlem.hanen.no
X-WR-CALDESC:Events for HANEN
BEGIN:VEVENT
DTSTART;TZID=Europe/Oslo:20180523T190000
DTEND;TZID=Europe/Oslo:20180523T190000
DTSTAMP:20260422T084326
CREATED:20180403T122059Z
LAST-MODIFIED:20180403T122555Z
UID:21608-1527102000-1527102000@medlem.hanen.no
SUMMARY:Tett på // Spelmannskveld med CD-lansering
DESCRIPTION:Sør-Fron og Mukampen Spelemannslag har jamt hevdet seg i toppen i landsomfattende tevlinger de siste tiårene. Denne kvelden gjev de smakebiter av repertoaret for festivalsommeren – tett på\, i låvepøbben på Rudi.\n\nFolkemusikken i Midt-Gudbrandsdalen er stadig på opptur\, og det har vel knapt noen gang vært så mange spillemenn som i dag. Da godt å ha rike kilder å øse av. Plateselskapet Talik og primus motor Rasmus Stauri lanserer rykende fersk Cd som dokumenterer og hedrer sentrale kilder i spelmannsmusikken i midtdalen.\n\nBillett 190\,- / 100\,- under 18 år\n\nMeny: Gardskafé
URL:https://medlem.hanen.no/arrangement/tett-pa-spelmannskveld-med-cd-lansering/
LOCATION:Øvre Rudi\, Sør-Fron\, 2647\, Norge
GEO:61.4797868;9.9273755
X-APPLE-STRUCTURED-LOCATION;VALUE=URI;X-ADDRESS=Øvre Rudi Sør-Fron 2647 Norge;X-APPLE-RADIUS=500;X-TITLE=Øvre Rudi:geo:9.9273755,61.4797868
CATEGORIES:Oppland
ATTACH;FMTTYPE=image/jpeg:https://medlem.hanen.no/wp-content/uploads/2018/04/rudi-gard.jpg
ORGANIZER;CN="Rudi%20Gard":MAILTO:oystein@rudigard.no
END:VEVENT
END:VCALENDAR