BEGIN:VCALENDAR
VERSION:2.0
PRODID:-//HANEN - ECPv4.3.2//NONSGML v1.0//EN
CALSCALE:GREGORIAN
METHOD:PUBLISH
X-WR-CALNAME:HANEN
X-ORIGINAL-URL:https://medlem.hanen.no
X-WR-CALDESC:Events for HANEN
BEGIN:VEVENT
DTSTART;TZID=Europe/Oslo:20170722T180000
DTEND;TZID=Europe/Oslo:20170722T180000
DTSTAMP:20260421T084101
CREATED:20170420T080541Z
LAST-MODIFIED:20170420T080541Z
UID:18426-1500746400-1500746400@medlem.hanen.no
SUMMARY:Tenorane & Steffen Horn\, klaver
DESCRIPTION:Konsert i Borggården.\n\nLes mer
URL:https://medlem.hanen.no/arrangement/tenorane-steffen-horn-klaver/
LOCATION:Postboks 235\, Rosendal\, 5486 
CATEGORIES:Hordaland
ATTACH;FMTTYPE=image/png:https://medlem.hanen.no/wp-content/uploads/2017/04/Horn.png
END:VEVENT
END:VCALENDAR