BEGIN:VCALENDAR
VERSION:2.0
PRODID:-//HANEN - ECPv4.3.2//NONSGML v1.0//EN
CALSCALE:GREGORIAN
METHOD:PUBLISH
X-WR-CALNAME:HANEN
X-ORIGINAL-URL:https://medlem.hanen.no
X-WR-CALDESC:Events for HANEN
BEGIN:VEVENT
DTSTART;VALUE=DATE:20160621
DTEND;VALUE=DATE:20160626
DTSTAMP:20260421T084325
CREATED:20160302T202257Z
LAST-MODIFIED:20160531T083843Z
UID:14116-1466467200-1466985599@medlem.hanen.no
SUMMARY:Start sommerferien med rideleir og fjordhest-show på Langedrag
DESCRIPTION:Uke 25 har vi rideleir med fokus på fjordhesten\, der elevene blir med på å arrangere og trene frem til et show i anledning fjordhestens dag den 26. juni. Rideleiren er fra tirsdag-søndag\, da de fleste skolene har skoleavslutning tirsdag 21. juni.\n\nVi legger vekt på å gi elevene kunnskap og ferdighetstrening i ridning og håndtering av hest basert på forståelsen av hestens natur. Baneridning\, elementær ridelære\, sprang og dressur\, tur og terrengridning i området rundt gården\, voltige/turn på hesteryggen og gymkhana. Vi deler inn i ridegrupper etter deltakernes individuelle nivå.
URL:https://medlem.hanen.no/arrangement/start-sommerferien-med-rideleir-og-fjordhest-show-pa-langedrag/
LOCATION:Tunhov\, Nesbyen\, 3540
GEO:60.4610728;8.7633544
X-APPLE-STRUCTURED-LOCATION;VALUE=URI;X-ADDRESS=Tunhov Nesbyen 3540;X-APPLE-RADIUS=500;X-TITLE=Tunhov:geo:8.7633544,60.4610728
CATEGORIES:Buskerud
ATTACH;FMTTYPE=image/jpeg:https://medlem.hanen.no/wp-content/uploads/2016/03/Langedrag-125.jpg
ORGANIZER;CN="Langedrag%20Naturpark%20AS":MAILTO:post@langedrag.no
END:VEVENT
END:VCALENDAR