BEGIN:VCALENDAR
VERSION:2.0
PRODID:-//HANEN - ECPv4.3.2//NONSGML v1.0//EN
CALSCALE:GREGORIAN
METHOD:PUBLISH
X-WR-CALNAME:HANEN
X-ORIGINAL-URL:https://medlem.hanen.no
X-WR-CALDESC:Events for HANEN
BEGIN:VEVENT
DTSTART;TZID=Europe/Oslo:20240526T120000
DTEND;TZID=Europe/Oslo:20240526T150000
DTSTAMP:20260420T100851
CREATED:20240508T112037Z
LAST-MODIFIED:20240508T112140Z
UID:40466-1716724800-1716735600@medlem.hanen.no
SUMMARY:Søndagsmiddag på Granavolden
DESCRIPTION:Den siste søndagen i hver mnd så inviterer vi til søndagsmiddag!\nHer får du servert en flott 2 retters middag til kun kroner 395\,- per person. Barn under 12 år er halv pris.\n\nMiddagen serveres i tidsrommet 12.00 til 15.00\n\nReservasjon av bord gjøres på telefon 61 33 77 00 eller på mail: post@granavolden.no
URL:https://medlem.hanen.no/arrangement/sondagsmiddag-pa-granavolden/
LOCATION:Granavollen 16\, Gran\, 2750
GEO:60.3665696;10.5282194
X-APPLE-STRUCTURED-LOCATION;VALUE=URI;X-ADDRESS=Granavollen 16 Gran 2750;X-APPLE-RADIUS=500;X-TITLE=Granavollen 16:geo:10.5282194,60.3665696
CATEGORIES:Oppland
ATTACH;FMTTYPE=image/jpeg:https://medlem.hanen.no/wp-content/uploads/2024/05/Galavolden-e1715167290317.jpg
ORGANIZER;CN="Granavolden%20Gj%C3%A6stgiveri":MAILTO:post@granavolden.no
END:VEVENT
END:VCALENDAR