BEGIN:VCALENDAR
VERSION:2.0
PRODID:-//HANEN - ECPv4.3.2//NONSGML v1.0//EN
CALSCALE:GREGORIAN
METHOD:PUBLISH
X-WR-CALNAME:HANEN
X-ORIGINAL-URL:https://medlem.hanen.no
X-WR-CALDESC:Events for HANEN
BEGIN:VEVENT
DTSTART;TZID=Europe/Oslo:20150707T120000
DTEND;TZID=Europe/Oslo:20150707T150000
DTSTAMP:20260420T084033
CREATED:20150508T110101Z
LAST-MODIFIED:20150508T110101Z
UID:2526-1436270400-1436281200@medlem.hanen.no
SUMMARY:Sommerkafé på Breie
DESCRIPTION:Vi ønsker hjertelig velkommen til sommerkafé i gulbygningen på Breie! Vi vil servere godsaker basert på sesongens råvarer og lokale produkter\, og har åpent mellom 12.00 og 15.00. Det er fint å kombinere besøket med en vandring i tid langs Den Bergenske Kongeveg eller en tur til Breiesleiren. 
URL:https://medlem.hanen.no/arrangement/sommerkafe-pa-breie/2015-07-07/
LOCATION:Breiesvegen 150\, Etnedal\, 2890\, Norge
GEO:60.8845267;9.5832083
X-APPLE-STRUCTURED-LOCATION;VALUE=URI;X-ADDRESS=Breiesvegen 150 Etnedal 2890 Norge;X-APPLE-RADIUS=500;X-TITLE=Breiesvegen 150:geo:9.5832083,60.8845267
CATEGORIES:Oppland
ATTACH;FMTTYPE=image/png:https://medlem.hanen.no/wp-content/uploads/2015/05/Sommerkafé_Breie_2015_kvadrat.png
ORGANIZER;CN="Breie%20gard":MAILTO:ingertoril@gmail.com
END:VEVENT
END:VCALENDAR