BEGIN:VCALENDAR
VERSION:2.0
PRODID:-//HANEN - ECPv4.3.2//NONSGML v1.0//EN
CALSCALE:GREGORIAN
METHOD:PUBLISH
X-WR-CALNAME:HANEN
X-ORIGINAL-URL:https://medlem.hanen.no
X-WR-CALDESC:Events for HANEN
BEGIN:VEVENT
DTSTART;TZID=Europe/Oslo:20161022T110000
DTEND;TZID=Europe/Oslo:20161023T170000
DTSTAMP:20260421T112844
CREATED:20161018T122118Z
LAST-MODIFIED:20161018T122118Z
UID:17129-1477134000-1477242000@medlem.hanen.no
SUMMARY:Smiemarked i Smiegården
DESCRIPTION:Marked med håndlagde glassboller\, keramikk\, malerier\, dreide treboller og mye mer. Du får kjøpt grillmat\, kaffe og gjærkringle
URL:https://medlem.hanen.no/arrangement/smiemarked-i-smiegarden/
LOCATION:Smedavegen 1\, Undheim\, 4342\, Norge
GEO:58.6825179;5.7782986
X-APPLE-STRUCTURED-LOCATION;VALUE=URI;X-ADDRESS=Smedavegen 1 Undheim 4342 Norge;X-APPLE-RADIUS=500;X-TITLE=Smedavegen 1:geo:5.7782986,58.6825179
CATEGORIES:Rogaland
ATTACH;FMTTYPE=image/jpeg:https://medlem.hanen.no/wp-content/uploads/2016/10/smiemarked-1.jpg
ORGANIZER;CN="Smiegarden%2C%20kultur-%20og%20gjestehus":MAILTO:eli@undheimsmiaa.no
END:VEVENT
END:VCALENDAR