BEGIN:VCALENDAR
VERSION:2.0
PRODID:-//HANEN - ECPv4.3.2//NONSGML v1.0//EN
CALSCALE:GREGORIAN
METHOD:PUBLISH
X-WR-CALNAME:HANEN
X-ORIGINAL-URL:https://medlem.hanen.no
X-WR-CALDESC:Events for HANEN
BEGIN:VEVENT
DTSTART;TZID=Europe/Oslo:20170519T210000
DTEND;TZID=Europe/Oslo:20170521T210000
DTSTAMP:20260421T095215
CREATED:20170518T114015Z
LAST-MODIFIED:20170518T114015Z
UID:19239-1495227600-1495400400@medlem.hanen.no
SUMMARY:Sidersleppet 2017
DESCRIPTION:Denne helga inviterer me igjen til det årlege Sidersleppet! Dette er ei nydeleg blømingshelg i Ulvik\, og noko alle – store og små – bør få med seg. Laurdag arrangerer gardane Lekve-Syse-Hakastad faste omvisingar med smaksprøvar. Om kvelden laurdag er det Hardangerbuffet på Brakanes hotel.\n\nLes mer
URL:https://medlem.hanen.no/arrangement/sidersleppet-2017/
CATEGORIES:Hordaland
ATTACH;FMTTYPE=image/gif:https://medlem.hanen.no/wp-content/uploads/2017/05/Sidersleppet-2017.gif
ORGANIZER;CN="Ulvik%20Frukt%20%26%20Cider":MAILTO:asbjornb@ulvik.org
END:VEVENT
END:VCALENDAR