BEGIN:VCALENDAR
VERSION:2.0
PRODID:-//HANEN - ECPv4.3.2//NONSGML v1.0//EN
CALSCALE:GREGORIAN
METHOD:PUBLISH
X-WR-CALNAME:HANEN
X-ORIGINAL-URL:https://medlem.hanen.no
X-WR-CALDESC:Events for HANEN
BEGIN:VEVENT
DTSTART;TZID=Europe/Oslo:20170421T170000
DTEND;TZID=Europe/Oslo:20170423T000000
DTSTAMP:20260421T084147
CREATED:20170301T125354Z
LAST-MODIFIED:20170301T125354Z
UID:18117-1492794000-1492905600@medlem.hanen.no
SUMMARY:Sesongavslutning på Venabygdsfjellet.
DESCRIPTION: \n\nMed "Norsk Matbord"\, ølsmaking\, konsert med Lars bremnes duo og varierte aktiviteter\n\nLes mer\n\n 
URL:https://medlem.hanen.no/arrangement/sesongavslutning-pa-venabygdsfjellet/
LOCATION:Venabygd\, Oppland\, 2632\, Norge
GEO:61.593088;10.0523544
CATEGORIES:Oppland
ATTACH;FMTTYPE=image/jpeg:https://medlem.hanen.no/wp-content/uploads/2017/03/ven.jpg
ORGANIZER;CN="Venabu%20Fjellhotell":MAILTO:venabu@venabu.no
END:VEVENT
END:VCALENDAR