BEGIN:VCALENDAR
VERSION:2.0
PRODID:-//HANEN - ECPv4.3.2//NONSGML v1.0//EN
CALSCALE:GREGORIAN
METHOD:PUBLISH
X-WR-CALNAME:HANEN
X-ORIGINAL-URL:https://medlem.hanen.no
X-WR-CALDESC:Events for HANEN
BEGIN:VEVENT
DTSTART;TZID=Europe/Oslo:20170307T110000
DTEND;TZID=Europe/Oslo:20170307T220000
DTSTAMP:20260421T112837
CREATED:20170224T131245Z
LAST-MODIFIED:20170224T131245Z
UID:18101-1488884400-1488924000@medlem.hanen.no
SUMMARY:Sesongåpning Tirsdagskafe
DESCRIPTION:Vi stater opp med tirsdagskafe Kl 11 med nyoppusset kafé\, ny meny\, fotoutstilling med Tom André Michael\, demo av hudpleie Nu skin Kl 19 \, masse nyheter i gårdsbutikken . Velkommen 😍
URL:https://medlem.hanen.no/arrangement/sesongapning-tirsdagskafe/
LOCATION:Moen Gård\, Klæbu\, 7554
GEO:63.2775237;10.445118
X-APPLE-STRUCTURED-LOCATION;VALUE=URI;X-ADDRESS=Moen Gård Klæbu 7554;X-APPLE-RADIUS=500;X-TITLE=Moen Gård:geo:10.445118,63.2775237
CATEGORIES:Sør-Trøndelag
ATTACH;FMTTYPE=image/jpeg:https://medlem.hanen.no/wp-content/uploads/2017/02/vaag.jpg
END:VEVENT
END:VCALENDAR