BEGIN:VCALENDAR
VERSION:2.0
PRODID:-//HANEN - ECPv4.3.2//NONSGML v1.0//EN
CALSCALE:GREGORIAN
METHOD:PUBLISH
X-WR-CALNAME:HANEN
X-ORIGINAL-URL:https://medlem.hanen.no
X-WR-CALDESC:Events for HANEN
BEGIN:VEVENT
DTSTART;TZID=Europe/Oslo:20220709T180000
DTEND;TZID=Europe/Oslo:20220709T230000
DTSTAMP:20260420T101151
CREATED:20220707T121444Z
LAST-MODIFIED:20220707T121555Z
UID:33701-1657389600-1657407600@medlem.hanen.no
SUMMARY:Sekstett Mosaikk i Klokkarstuhagen
DESCRIPTION:Sekstett Mosaikk hvor alle har bakgrunn i Nord-Trøndelag kammerorkester hadde avtalt å øve da Inderøy var på det rødeste med korona.\nBrahms ventet på bedre tider\, og etterhvert har Sekstett Mosaikk krydret programmet med Beatles\, ABBA\, Finsk tango og Schindlers liste.\n\nEnsemblets første konsert blir på den nye scenen hos Kjerringa me` Straumen!\nBlir det dårlig vær har vi telt\, pledd og varme drikker!\n\nVelkommen til en opplevelse med en strykegruppe som skaper magisk stemning i Klokkarstuhagen\n\nSekstett Mosaikk består av:\nMaria Selnes\, Ingrid Stai Skjesol\,\nOla Sveinung Røkkum\, Siv Furunes\, Esther Sophie Fells & Karin Toft Skjellegrind.\n\n\n\nInngang kr 120.- i døra.\nSe mindre\n
URL:https://medlem.hanen.no/arrangement/sekstett-mosaikk-i-klokkarstuhagen/
LOCATION:Øvergata 18\, Inderøy\, 7670\, Norge
CATEGORIES:Trøndelag
ATTACH;FMTTYPE=image/png:https://medlem.hanen.no/wp-content/uploads/2022/07/Fiolin-3.png
END:VEVENT
END:VCALENDAR