BEGIN:VCALENDAR
VERSION:2.0
PRODID:-//HANEN - ECPv4.3.2//NONSGML v1.0//EN
CALSCALE:GREGORIAN
METHOD:PUBLISH
X-WR-CALNAME:HANEN
X-ORIGINAL-URL:https://medlem.hanen.no
X-WR-CALDESC:Events for HANEN
BEGIN:VEVENT
DTSTART;VALUE=DATE:20170618
DTEND;VALUE=DATE:20170815
DTSTAMP:20260421T085718
CREATED:20170613T072844Z
LAST-MODIFIED:20170613T072844Z
UID:19510-1497744000-1502841599@medlem.hanen.no
SUMMARY:Se inn i det usynlige på Vitenparken
DESCRIPTION:18. juni kl 12 åpner utstillingen Se inn i det usynlige!\nMed utstillingen ”Se inn i det usynlige” inviterer vi publikum til å dele vår fascinasjon for grenselandet mellom vitenskap\, kunst og teknologi.\n\nUtstillingen kan oppleves på Vitenparken i hele sommer. Velkommen!\n\nLes mer
URL:https://medlem.hanen.no/arrangement/se-inn-i-det-usynlige-pa-vitenparken/
LOCATION:Fredrik A. Dahls Vei\,\, Ås\, 1430\, Norge
GEO:59.6674572;10.7684186
X-APPLE-STRUCTURED-LOCATION;VALUE=URI;X-ADDRESS=Fredrik A. Dahls Vei Ås 1430 Norge;X-APPLE-RADIUS=500;X-TITLE=Fredrik A. Dahls Vei\,:geo:10.7684186,59.6674572
CATEGORIES:Akershus
ATTACH;FMTTYPE=image/gif:https://medlem.hanen.no/wp-content/uploads/2017/06/Se-inn-i-det-usynlige.gif
ORGANIZER;CN="Vitenparken%2C%20Campus%20%C3%85s":MAILTO:resepsjon@vitenparken.no
END:VEVENT
END:VCALENDAR