BEGIN:VCALENDAR
VERSION:2.0
PRODID:-//HANEN - ECPv4.3.2//NONSGML v1.0//EN
CALSCALE:GREGORIAN
METHOD:PUBLISH
X-WR-CALNAME:HANEN
X-ORIGINAL-URL:https://medlem.hanen.no
X-WR-CALDESC:Events for HANEN
BEGIN:VEVENT
DTSTART;VALUE=DATE:20150530
DTEND;VALUE=DATE:20150530
DTSTAMP:20260420T083622
CREATED:20150513T092748Z
LAST-MODIFIED:20150513T092748Z
UID:12107-1432944000-1433030399@medlem.hanen.no
SUMMARY:Sau i sentrum
DESCRIPTION:
URL:https://medlem.hanen.no/arrangement/sau-i-sentrum/
LOCATION:Søyland\, Ålgård\, Rogaland\, 4330\, Norge
GEO:58.6844057;5.9833798
X-APPLE-STRUCTURED-LOCATION;VALUE=URI;X-ADDRESS=Søyland Ålgård Rogaland 4330 Norge;X-APPLE-RADIUS=500;X-TITLE=Søyland:geo:5.9833798,58.6844057
CATEGORIES:Rogaland
ATTACH;FMTTYPE=image/jpeg:https://medlem.hanen.no/wp-content/uploads/2015/05/11107742_10153431759316282_7380844040495017698_n.jpg
ORGANIZER;CN="S%C3%B8ya":MAILTO:soeya@online.no
END:VEVENT
END:VCALENDAR