BEGIN:VCALENDAR
VERSION:2.0
PRODID:-//HANEN - ECPv4.3.2//NONSGML v1.0//EN
CALSCALE:GREGORIAN
METHOD:PUBLISH
X-WR-CALNAME:HANEN
X-ORIGINAL-URL:https://medlem.hanen.no
X-WR-CALDESC:Events for HANEN
BEGIN:VEVENT
DTSTART;TZID=Europe/Oslo:20180809T080000
DTEND;TZID=Europe/Oslo:20180812T170000
DTSTAMP:20260420T084041
CREATED:20180122T140834Z
LAST-MODIFIED:20180122T140834Z
UID:21006-1533801600-1534093200@medlem.hanen.no
SUMMARY:Rosendal kammermusikkfestival 9. - 12. august 2018
DESCRIPTION:Rosendal Kammermusikkfestival  «I skyggen av en krig (1914-1918)» hedrer at det er 100 år siden første verdenskrig tok slutt - og all den fantastiske musikken som ble komponert i denne dramatiske perioden.\n\nLes mer om festivalen her.\n\n 
URL:https://medlem.hanen.no/arrangement/rosendal-kammermusikkfestival-9-12-august-2018/
LOCATION:Postboks 235\, Rosendal\, 5486 
CATEGORIES:Hordaland
ATTACH;FMTTYPE=image/jpeg:https://medlem.hanen.no/wp-content/uploads/2018/01/Leif-Ove-Andsnes-.jpg
END:VEVENT
END:VCALENDAR