BEGIN:VCALENDAR
VERSION:2.0
PRODID:-//HANEN - ECPv4.3.2//NONSGML v1.0//EN
CALSCALE:GREGORIAN
METHOD:PUBLISH
X-WR-CALNAME:HANEN
X-ORIGINAL-URL:https://medlem.hanen.no
X-WR-CALDESC:Events for HANEN
BEGIN:VEVENT
DTSTART;TZID=Europe/Oslo:20161022T200000
DTEND;TZID=Europe/Oslo:20161022T200000
DTSTAMP:20260421T095155
CREATED:20161019T073801Z
LAST-MODIFIED:20161019T073801Z
UID:17132-1477166400-1477166400@medlem.hanen.no
SUMMARY:Rose
DESCRIPTION:I konserten Rose møter du tre av våre beste folkemusikarar\, med songar av Robert Burns til ny\, melodiøs musikk av Gabriel Fliflet. Kirsten Bråten Berg – song\, munnharpe\, egg. Anders Røine – langeleik\, gitar\, fele\, munnharpe\, song. Gabriel Fliflet – trekkspel\, piano\, song\n\nLes mer
URL:https://medlem.hanen.no/arrangement/rose/
LOCATION:Hemsedal\, 3560\, Norge
CATEGORIES:Buskerud
ATTACH;FMTTYPE=image/jpeg:https://medlem.hanen.no/wp-content/uploads/2016/10/fa1.jpg
ORGANIZER;CN="Fausko%20Skysstasjon":MAILTO:knut@fausko.no
END:VEVENT
END:VCALENDAR