BEGIN:VCALENDAR
VERSION:2.0
PRODID:-//HANEN - ECPv4.3.2//NONSGML v1.0//EN
CALSCALE:GREGORIAN
METHOD:PUBLISH
X-WR-CALNAME:HANEN
X-ORIGINAL-URL:https://medlem.hanen.no
X-WR-CALDESC:Events for HANEN
BEGIN:VEVENT
DTSTART;VALUE=DATE:20161009
DTEND;VALUE=DATE:20161014
DTSTAMP:20260421T112929
CREATED:20160905T064057Z
LAST-MODIFIED:20160905T104612Z
UID:16760-1475971200-1476489599@medlem.hanen.no
SUMMARY:Rideleir i høstferien\, tema FELTRITT på Langedrag Naturpark
DESCRIPTION: \n\nEn uke fylt med et mangfold av opplevelser tett på dyr og natur. Rideundervisning etter ditt nivå på trygge\, men morsomme hester. Godt utdannet ridelærer.\n\nVi legger vekt på å gi elevene kunnskap og ferdighetstrening i ridning og håndtering av hest basert på forståelsen av hestens natur. Baneridning\, elementer ridelære\, sprang og dressur\, tur og terrengridning i området rundt gården\, voltige/turn på hesteryggen og gymkhana. Vi deler inn i ridegrupper etter deltakernes individuelle nivå.\n\nAndre aktiviteter du kan være med på:\n\n \tNærkontakt med fjellrev\, reinsdyr og elg. Har du klappet en elg?\n \tDaglig stell i stall og fjøs\n \tRidetur i høstfjellet\n \tKlatrepark\n \tNaturnære opplevelser for små og store\n \tSeterdag – tur til seters. Det blir ysting og takkesteiking.\n \tFjelltur med mulighet for kullstiftbrenning og pinnebrødsteking\n \tHistoriefortelling foran peisen\n \tVi legger vekt på et trygt\, sosialt miljø\n \tBli med inn til ulv og gaupen (forhåndspåmelding\, egne priser)\n \tBli med inn til våre sosialiserte rever\n
URL:https://medlem.hanen.no/arrangement/rideleir-i-hostferien-tema-feltritt-2/
LOCATION:Tunhov\, Nesbyen\, 3540
GEO:60.4610728;8.7633544
X-APPLE-STRUCTURED-LOCATION;VALUE=URI;X-ADDRESS=Tunhov Nesbyen 3540;X-APPLE-RADIUS=500;X-TITLE=Tunhov:geo:8.7633544,60.4610728
CATEGORIES:Buskerud
ATTACH;FMTTYPE=image/jpeg:https://medlem.hanen.no/wp-content/uploads/2016/09/sommer-2015_Mia-Hansen.jpg
ORGANIZER;CN="Langedrag%20Naturpark%20AS":MAILTO:post@langedrag.no
END:VEVENT
END:VCALENDAR