BEGIN:VCALENDAR
VERSION:2.0
PRODID:-//HANEN - ECPv4.3.2//NONSGML v1.0//EN
CALSCALE:GREGORIAN
METHOD:PUBLISH
X-WR-CALNAME:HANEN
X-ORIGINAL-URL:https://medlem.hanen.no
X-WR-CALDESC:Events for HANEN
BEGIN:VEVENT
DTSTART;TZID=Europe/Oslo:20150826T190000
DTEND;TZID=Europe/Oslo:20150826T220000
DTSTAMP:20260420T083925
CREATED:20150713T215701Z
LAST-MODIFIED:20150713T215701Z
UID:12756-1440615600-1440626400@medlem.hanen.no
SUMMARY:"Revy\, revy og atter revy"
DESCRIPTION:"Revy\, revy og atter revy" med Kari Svendsen\, Kari Stokke og Kari Diesen\nKari Svendsen\, kari Stokke og Kari Diesen hiver ig ang en revy på Rudi Gard. Desse tre nestorane i norsk musikkliv har funne saman i ei forrykande forestilling\, kor dei møtast i gamle og populære revyviser. Kari Diesen syng viser som mora gjorde\, Kari Svendsen er innom både Arne Svendsen\, Lalla Carlsen\, Sønstevold\, Prøysen Bøe og Hauger. Kari Stokke er stødig ved pianoet\, og frå repertoaret:Trostens melodi\, Ei hel ei\, ei halv ei\, Marsjkonkurransen\, En herre med bart\, Hovedøn\, Jacobsen\, og mange\, mange fleire.\n\nRudi Gard holder åpen fra kl 17.00.\n\nLes mer
URL:https://medlem.hanen.no/arrangement/revy-revy-og-atter-revy/
LOCATION:Øvre Rudi\, Sør-Fron\, 2647\, Norge
GEO:61.4797868;9.9273755
X-APPLE-STRUCTURED-LOCATION;VALUE=URI;X-ADDRESS=Øvre Rudi Sør-Fron 2647 Norge;X-APPLE-RADIUS=500;X-TITLE=Øvre Rudi:geo:9.9273755,61.4797868
ATTACH;FMTTYPE=image/jpeg:https://medlem.hanen.no/wp-content/uploads/2015/07/banjo-kari-1200x1400.jpg
ORGANIZER;CN="Rudi%20Gard":MAILTO:oystein@rudigard.no
END:VEVENT
END:VCALENDAR