BEGIN:VCALENDAR
VERSION:2.0
PRODID:-//HANEN - ECPv4.3.2//NONSGML v1.0//EN
CALSCALE:GREGORIAN
METHOD:PUBLISH
X-WR-CALNAME:HANEN
X-ORIGINAL-URL:https://medlem.hanen.no
X-WR-CALDESC:Events for HANEN
BEGIN:VEVENT
DTSTART;TZID=Europe/Oslo:20161005T160000
DTEND;TZID=Europe/Oslo:20161005T170000
DTSTAMP:20260421T112941
CREATED:20160926T124526Z
LAST-MODIFIED:20160926T124526Z
UID:16883-1475683200-1475686800@medlem.hanen.no
SUMMARY:Reinsdyrcruise med Gjendebåten
DESCRIPTION:Med Gjendebåten tek vi deg med midt inn i villaste Jotunheimen. I eventyrlege omgivelser kan vi garantere deg at du opplev reinen på nært hald. Undervegs serverer vi passande fingermat: Ein liten smak av rein.
URL:https://medlem.hanen.no/arrangement/reinsdyrcruise-med-gjendebaten/
LOCATION:Øygardsvegen 187\, Vågå\, Oppland\, 2680\, Norge
GEO:61.883816;9.1094106
X-APPLE-STRUCTURED-LOCATION;VALUE=URI;X-ADDRESS=Øygardsvegen 187 Vågå Oppland 2680 Norge;X-APPLE-RADIUS=500;X-TITLE=Øygardsvegen 187:geo:9.1094106,61.883816
CATEGORIES:Oppland
ATTACH;FMTTYPE=image/jpeg:https://medlem.hanen.no/wp-content/uploads/2016/09/gjende.jpg
ORGANIZER;CN="Gjendeb%C3%A5tene%20AS":MAILTO:harald@gjende.no
END:VEVENT
END:VCALENDAR