BEGIN:VCALENDAR
VERSION:2.0
PRODID:-//HANEN - ECPv4.3.2//NONSGML v1.0//EN
CALSCALE:GREGORIAN
METHOD:PUBLISH
X-WR-CALNAME:HANEN
X-ORIGINAL-URL:https://medlem.hanen.no
X-WR-CALDESC:Events for HANEN
BEGIN:VEVENT
DTSTART;TZID=Europe/Oslo:20141012T190000
DTEND;TZID=Europe/Oslo:20141012T210000
DTSTAMP:20260421T101655
CREATED:20140905T123229Z
LAST-MODIFIED:20140905T123229Z
UID:1881-1413140400-1413147600@medlem.hanen.no
SUMMARY:Reindrift og kulturminne - Foredrag v/Kjell Bitustøyl
DESCRIPTION:Telemarkingen Kjell Bitustøyl har i mange år kartlagt og registrert historie og kulturminne knytt til tamreindrifta sør for Jotunheimen. Sametinget har gitt støtte til Bitustøyl sitt registreringsarbeid. I foredraget på Fausko vil Bitustøyl snakke om dei lokale gjetarane knytt til Hemsedal og den tamreindrifta som har vore og som eksisterer i desse fjella og tilstøytande område i dag.
URL:https://medlem.hanen.no/arrangement/reindrift-og-kulturminne-foredrag-vkjell-bitustoyl/
LOCATION:Hemsedal\, 3560\, Norge
CATEGORIES:Buskerud
ATTACH;FMTTYPE=image/png:https://medlem.hanen.no/wp-content/uploads/2014/09/uten-navn.png
ORGANIZER;CN="Fausko%20Skysstasjon":MAILTO:knut@fausko.no
END:VEVENT
END:VCALENDAR