BEGIN:VCALENDAR
VERSION:2.0
PRODID:-//HANEN - ECPv4.3.2//NONSGML v1.0//EN
CALSCALE:GREGORIAN
METHOD:PUBLISH
X-WR-CALNAME:HANEN
X-ORIGINAL-URL:https://medlem.hanen.no
X-WR-CALDESC:Events for HANEN
BEGIN:VEVENT
DTSTART;TZID=Europe/Oslo:20150423T123000
DTEND;TZID=Europe/Oslo:20150423T160000
DTSTAMP:20260420T082238
CREATED:20150327T085642Z
LAST-MODIFIED:20150327T085642Z
UID:2377-1429792200-1429804800@medlem.hanen.no
SUMMARY:Ravineseminar
DESCRIPTION:Velkommen til ravineseminaret på Veset\, Nes på Romerike\, 23.april 12.30-16.00.\n\nBenytt anledningen til å bli kjent med det særegne ravinelandskapet! Ravinene er skjulte skatter i et kulturlandskap i endring. Vi har anerkjente fagfolk både som foredragsholdere og i panel. Seminaret\, som er støttet av Fylkesmannen i Oslo og Akershus\, vil gi ny kunnskap til alle som forvalter ravinene på ulike plan.\n\nMålgruppa er politikere\, grunneiere\, ansatte i offentlig forvaltning samt lag\, foreninger og enkeltpersoner som har glede av natur\, miljø\, kultur og historie.\n\nSe vedlagte program.\n\nPåmelding: veset@online.no innen mandag 20.april.\n\nVel møtt!
URL:https://medlem.hanen.no/arrangement/ravineseminar/
LOCATION:Vesetalléen 20\, Vormsund\, 2160\, Norge
GEO:60.1534263;11.4159705
X-APPLE-STRUCTURED-LOCATION;VALUE=URI;X-ADDRESS=Vesetalléen 20 Vormsund 2160 Norge;X-APPLE-RADIUS=500;X-TITLE=Vesetalléen 20:geo:11.4159705,60.1534263
CATEGORIES:Akershus
ATTACH;FMTTYPE=image/jpeg:https://medlem.hanen.no/wp-content/uploads/2015/03/6.jpg
END:VEVENT
END:VCALENDAR