BEGIN:VCALENDAR
VERSION:2.0
PRODID:-//HANEN - ECPv4.3.2//NONSGML v1.0//EN
CALSCALE:GREGORIAN
METHOD:PUBLISH
X-WR-CALNAME:HANEN
X-ORIGINAL-URL:https://medlem.hanen.no
X-WR-CALDESC:Events for HANEN
BEGIN:VEVENT
DTSTART;TZID=Europe/Oslo:20180414T130000
DTEND;TZID=Europe/Oslo:20180414T153000
DTSTAMP:20260420T101052
CREATED:20180412T081946Z
LAST-MODIFIED:20180412T081946Z
UID:21639-1523710800-1523719800@medlem.hanen.no
SUMMARY:Ragnar Enger forteller om Ola Viker.
DESCRIPTION:Ragnar Enger forteller om Flubergs forfatter:Ola Viker. Ragnar er en eminent forteller med mye kunnskap. Han bringer oss inn i Vikers bøker og verden. Ola Viker var en dyktig forfatter som vi vil få fram i lyset igjen. På Granum kan du sitte å se ned på Ola Vikers Gård som ligger vakkert ved Randsfjorden. Kafe Blåveisen er åpen. Inngang kr. 150\,- inkludert kaffe/te og hjemmebakst. Arrangør: Granum Gård i Fluberg
URL:https://medlem.hanen.no/arrangement/ragnar-enger-forteller-om-ola-viker/
LOCATION:Granumsvegen 6\, Fluberg\, 2862\, Norge
GEO:60.774781;10.2686947
X-APPLE-STRUCTURED-LOCATION;VALUE=URI;X-ADDRESS=Granumsvegen 6 Fluberg 2862 Norge;X-APPLE-RADIUS=500;X-TITLE=Granumsvegen 6:geo:10.2686947,60.774781
CATEGORIES:Akershus
ATTACH;FMTTYPE=image/jpeg:https://medlem.hanen.no/wp-content/uploads/2018/04/Fortellerkafe-Ola-Viker.jpg
ORGANIZER;CN="Granum%20G%C3%A5rd":MAILTO:mariannekonow@gmail.com
END:VEVENT
END:VCALENDAR