BEGIN:VCALENDAR
VERSION:2.0
PRODID:-//HANEN - ECPv4.3.2//NONSGML v1.0//EN
CALSCALE:GREGORIAN
METHOD:PUBLISH
X-WR-CALNAME:HANEN
X-ORIGINAL-URL:https://medlem.hanen.no
X-WR-CALDESC:Events for HANEN
BEGIN:VEVENT
DTSTART;TZID=Europe/Oslo:20170401T200000
DTEND;TZID=Europe/Oslo:20170402T020000
DTSTAMP:20260421T114758
CREATED:20170317T142734Z
LAST-MODIFIED:20170317T142734Z
UID:18155-1491076800-1491098400@medlem.hanen.no
SUMMARY:Pubquiz\, 1.april
DESCRIPTION:1. april kan ein bruke til både å ljuge\, dikte historier og fortelje skrønar.\n\nDu kan òg ta turen til Knaken\, for denne kvelden vert det pubquiz! Kven veit kva Knaken finn på av historier...\n\nTa turen til Knaken og forsøk å finne svara på nokre av dei store og små spørsmåla innanfor historie\, geografi\, musikk\, sport og mykje anna!\n\n\nV i opnar kl. 20.00 og startar quizen som vanleg (om lag) 21.00.\n\n
URL:https://medlem.hanen.no/arrangement/pubquiz-1-april/
LOCATION:Havnebakken 1\, Kaupanger\, 6854\, Norge
GEO:61.1845298;7.2353629
X-APPLE-STRUCTURED-LOCATION;VALUE=URI;X-ADDRESS=Havnebakken 1 Kaupanger 6854 Norge;X-APPLE-RADIUS=500;X-TITLE=Havnebakken 1:geo:7.2353629,61.1845298
ATTACH;FMTTYPE=image/jpeg:https://medlem.hanen.no/wp-content/uploads/2017/03/pubquiz.jpg
ORGANIZER;CN="Knaken":MAILTO:post@knaken.no
END:VEVENT
END:VCALENDAR