BEGIN:VCALENDAR
VERSION:2.0
PRODID:-//HANEN - ECPv4.3.2//NONSGML v1.0//EN
CALSCALE:GREGORIAN
METHOD:PUBLISH
X-WR-CALNAME:HANEN
X-ORIGINAL-URL:https://medlem.hanen.no
X-WR-CALDESC:Events for HANEN
BEGIN:VEVENT
DTSTART;TZID=Europe/Oslo:20180428T210000
DTEND;TZID=Europe/Oslo:20180428T210000
DTSTAMP:20260420T083859
CREATED:20180407T154551Z
LAST-MODIFIED:20180407T154614Z
UID:21644-1524949200-1524949200@medlem.hanen.no
SUMMARY:Per Ellingsen Band
DESCRIPTION:Konsert på Engevik Gaard. Kom og hør på Per Ellingsen Band på Buo.
URL:https://medlem.hanen.no/arrangement/per-ellingsen-band/
LOCATION:Engjavik\, Sævareid\, Hordaland\, 5645\, Norge
GEO:60.1815568;5.7597992
X-APPLE-STRUCTURED-LOCATION;VALUE=URI;X-ADDRESS=Engjavik Sævareid Hordaland 5645 Norge;X-APPLE-RADIUS=500;X-TITLE=Engjavik:geo:5.7597992,60.1815568
CATEGORIES:Hordaland
ATTACH;FMTTYPE=image/jpeg:https://medlem.hanen.no/wp-content/uploads/2018/04/Engevik-gaard.jpg
END:VEVENT
END:VCALENDAR