BEGIN:VCALENDAR
VERSION:2.0
PRODID:-//HANEN - ECPv4.3.2//NONSGML v1.0//EN
CALSCALE:GREGORIAN
METHOD:PUBLISH
X-WR-CALNAME:HANEN
X-ORIGINAL-URL:https://medlem.hanen.no
X-WR-CALDESC:Events for HANEN
BEGIN:VEVENT
DTSTART;TZID=Europe/Oslo:20160323T190000
DTEND;TZID=Europe/Oslo:20160323T230000
DTSTAMP:20260419T084505
CREATED:20160309T152014Z
LAST-MODIFIED:20160309T152014Z
UID:14251-1458759600-1458774000@medlem.hanen.no
SUMMARY:Påskenøtter
DESCRIPTION:Inga påske uten påskenøtter! Onsdag i påska blir den årlege påskequizen på Nutheim. Sal av heimelaga pizza. Quizmaster er ennå ukjent. Hjarteleg velkomne!
URL:https://medlem.hanen.no/arrangement/paskenotter/
LOCATION:Flatdalsvegen 1283\, Flatdal\, 3841
GEO:59.5705579;8.5484317
X-APPLE-STRUCTURED-LOCATION;VALUE=URI;X-ADDRESS=Flatdalsvegen 1283 Flatdal 3841;X-APPLE-RADIUS=500;X-TITLE=Flatdalsvegen 1283:geo:8.5484317,59.5705579
CATEGORIES:Telemark
ATTACH;FMTTYPE=image/jpeg:https://medlem.hanen.no/wp-content/uploads/2016/03/12799312_1088933987837382_4568315210263209972_n.jpg
ORGANIZER;CN="Nutheim%20Gjestgiveri":MAILTO:nutheim@online.no
END:VEVENT
END:VCALENDAR