BEGIN:VCALENDAR
VERSION:2.0
PRODID:-//HANEN - ECPv4.3.2//NONSGML v1.0//EN
CALSCALE:GREGORIAN
METHOD:PUBLISH
X-WR-CALNAME:HANEN
X-ORIGINAL-URL:https://medlem.hanen.no
X-WR-CALDESC:Events for HANEN
BEGIN:VEVENT
DTSTART;TZID=Europe/Oslo:20150404T120000
DTEND;TZID=Europe/Oslo:20150405T150000
DTSTAMP:20260420T083916
CREATED:20150310T085729Z
LAST-MODIFIED:20150310T085729Z
UID:2327-1428148800-1428246000@medlem.hanen.no
SUMMARY:Påskekafé på Breie gard
DESCRIPTION:Synes du også det er ekstra fint å ha et hyggelig turmål med varm drikke og god mat? Vi krysser fingrene for at vi får en påske med flott skiføre\, og ønsker velkommen til påskekafé lørdag 4. og søndag 5. april mellom 12.00 og 15.00!
URL:https://medlem.hanen.no/arrangement/paskekafe-pa-breie-gard/
LOCATION:Breiesvegen 150\, Etnedal\, 2890\, Norge
GEO:60.8845267;9.5832083
X-APPLE-STRUCTURED-LOCATION;VALUE=URI;X-ADDRESS=Breiesvegen 150 Etnedal 2890 Norge;X-APPLE-RADIUS=500;X-TITLE=Breiesvegen 150:geo:9.5832083,60.8845267
CATEGORIES:Oppland
ATTACH;FMTTYPE=image/png:https://medlem.hanen.no/wp-content/uploads/2015/03/Påskekafé_2015.png
ORGANIZER;CN="Breie%20gard":MAILTO:ingertoril@gmail.com
END:VEVENT
END:VCALENDAR