BEGIN:VCALENDAR
VERSION:2.0
PRODID:-//HANEN - ECPv4.3.2//NONSGML v1.0//EN
CALSCALE:GREGORIAN
METHOD:PUBLISH
X-WR-CALNAME:HANEN
X-ORIGINAL-URL:https://medlem.hanen.no
X-WR-CALDESC:Events for HANEN
BEGIN:VEVENT
DTSTART;TZID=Europe/Oslo:20150329T140000
DTEND;TZID=Europe/Oslo:20150331T160000
DTSTAMP:20260420T095142
CREATED:20150217T101142Z
LAST-MODIFIED:20150217T101142Z
UID:2273-1427637600-1427817600@medlem.hanen.no
SUMMARY:Påskejazz 2015
DESCRIPTION:For 5 år på rad byr vi våre gjester på Påskejazz - tre dager på rad - med noen av de ypperste jazzmusikerne vi har her på berget!\n\nDe spiller musikk fra det tradisjonelle jazzrepertoaret\, og fra et mer moderne repertoar. Alle bor i Trondheim og har spilt sammen i mange år. Hver for seg har de merittlister lange som uår\, og er viktige bidragsytere i Norges levende jazzhistorie - på flere vis.\n\nErling Aksdal - piano\nBjørn Alterhaug - bass\nTruls Rønning - trommer\n\nOg så kommer John Pål Inderberg\, da. På sax. For fjerde år på rad. Særs hyggelig!\n\nPalmesøndag\, 29. mars: 14-16\nMandag 30. mars: 14-16\nTirsdag 31. mars: 14-16\n\nTirsdag kveld er det også gjestespill med kokk Eivind Austad fra M/S Bjørnvåg i Trondheim.\n\n\nBordbestilling: post@stokkoy.no / 72 53 43 28\n\nPåsketilbud på rom hele påska: 1200\,- pr. natt for to pers. inkl. frokost.\n\nGratis inngang - velkommen!\n 
URL:https://medlem.hanen.no/arrangement/paskejazz-2015/
LOCATION:Troningsveien 7\, Stokkøy \, Sør trøndelag\, 7178\, Norge
GEO:64.072376;10.003975
X-APPLE-STRUCTURED-LOCATION;VALUE=URI;X-ADDRESS=Troningsveien 7 Stokkøy  Sør trøndelag 7178 Norge;X-APPLE-RADIUS=500;X-TITLE=Troningsveien 7:geo:10.003975,64.072376
CATEGORIES:Sør-Trøndelag
ATTACH;FMTTYPE=image/jpeg:https://medlem.hanen.no/wp-content/uploads/2015/02/11012184_788692844542927_4224012899057513501_n.jpg
ORGANIZER;CN="Stokk%C3%B8ya%20Sj%C3%B8senter%20":MAILTO:post@stokkoy.no
END:VEVENT
END:VCALENDAR