BEGIN:VCALENDAR
VERSION:2.0
PRODID:-//HANEN - ECPv4.3.2//NONSGML v1.0//EN
CALSCALE:GREGORIAN
METHOD:PUBLISH
X-WR-CALNAME:HANEN
X-ORIGINAL-URL:https://medlem.hanen.no
X-WR-CALDESC:Events for HANEN
BEGIN:VEVENT
DTSTART;TZID=Europe/Oslo:20180322T090000
DTEND;TZID=Europe/Oslo:20180326T160000
DTSTAMP:20260420T082636
CREATED:20180320T084454Z
LAST-MODIFIED:20180320T084555Z
UID:21547-1521709200-1522080000@medlem.hanen.no
SUMMARY:Påskeåpen gårdsbutikk på Berg Gård
DESCRIPTION:- Nå enda større utvalg av lokalmat og gourmetprodukter.\n- Kjøttprodukter og gårdsmatprodukter fra gården.\n- Akevittstasj til påskekosen.\n- Søtsaker\n- Gave og interiør\n\nVelkommen innom oss!
URL:https://medlem.hanen.no/arrangement/paskeapen-gardsbutikk-pa-berg-gard/
LOCATION:Kjelvikvegen 71\, Inderøy\, Nord-Trøndelag\, 7670\, Norge
GEO:63.901875;11.1774144
X-APPLE-STRUCTURED-LOCATION;VALUE=URI;X-ADDRESS=Kjelvikvegen 71 Inderøy Nord-Trøndelag 7670 Norge;X-APPLE-RADIUS=500;X-TITLE=Kjelvikvegen 71:geo:11.1774144,63.901875
CATEGORIES:Nord-Trøndelag
ATTACH;FMTTYPE=image/jpeg:https://medlem.hanen.no/wp-content/uploads/2018/03/berggård.jpg
ORGANIZER;CN="Berg%20G%C3%A5rd":MAILTO:info@berg-gaard.no
END:VEVENT
END:VCALENDAR