BEGIN:VCALENDAR
VERSION:2.0
PRODID:-//HANEN - ECPv4.3.2//NONSGML v1.0//EN
CALSCALE:GREGORIAN
METHOD:PUBLISH
X-WR-CALNAME:HANEN
X-ORIGINAL-URL:https://medlem.hanen.no
X-WR-CALDESC:Events for HANEN
BEGIN:VEVENT
DTSTART;TZID=Europe/Oslo:20170414T193000
DTEND;TZID=Europe/Oslo:20170415T010000
DTSTAMP:20260421T101208
CREATED:20170323T144110Z
LAST-MODIFIED:20170323T144110Z
UID:18175-1492198200-1492218000@medlem.hanen.no
SUMMARY:Påsk-fæst og tapasbuffet
DESCRIPTION:PÅSK-FÆST på LiVERTEN / Lierne samfunnshus\n\nPåske-tapasbuffet kl 19.30 – 22.00\nTapasbuffet med spennende kalde og varme tapasretter\, samt dessert og kaffe. Spis så mye du vil for kr 195.\nBestill gjerne bord\, tlf 918 88 694\nIngen aldersgrense på buffeen (16 år på festen fra kl 21)\n\nPåsk-fest med «Heimkjær» et festband fra Snåsa.\nBar med alle rettigheter. Alkoholfrie alternativ.\n16-årsgrense på festen. Legitimasjonsplikt!\nInngang fest: kr 250. (fargekodede armbånd)\n\nVelkommen til årets påskefest på LiVERTEN!\n\n\nLiVERTEN AS \n\nwww.liverten.no\n\n Tlf 918 88 694
URL:https://medlem.hanen.no/arrangement/pask-faest-og-tapasbuffet/
LOCATION:Heggvollveien 4\, 7882 Nordli\, Norge
GEO:64.471909;13.61394
X-APPLE-STRUCTURED-LOCATION;VALUE=URI;X-ADDRESS=Heggvollveien 4 7882 Nordli Norge;X-APPLE-RADIUS=500;X-TITLE=Heggvollveien 4:geo:13.61394,64.471909
CATEGORIES:Nord-Trøndelag
ATTACH;FMTTYPE=image/jpeg:https://medlem.hanen.no/wp-content/uploads/2017/03/Påsk-fest-langfredag-2017.jpg
ORGANIZER;CN="Li-vert%60n%20AS":MAILTO:post@liverten.no
END:VEVENT
END:VCALENDAR