BEGIN:VCALENDAR
VERSION:2.0
PRODID:-//HANEN - ECPv4.3.2//NONSGML v1.0//EN
CALSCALE:GREGORIAN
METHOD:PUBLISH
X-WR-CALNAME:HANEN
X-ORIGINAL-URL:https://medlem.hanen.no
X-WR-CALDESC:Events for HANEN
BEGIN:VEVENT
DTSTART;TZID=Europe/Oslo:20150523T190000
DTEND;TZID=Europe/Oslo:20150523T230000
DTSTAMP:20260420T083901
CREATED:20150423T130506Z
LAST-MODIFIED:20150423T130506Z
UID:2479-1432407600-1432422000@medlem.hanen.no
SUMMARY:Ølsmaking hos Kaffelarsen
DESCRIPTION:Velkommen til en helaften hos Kaffelarsen og Finnskogen Mikrobryggeri. Denne kvelden er viet øl\, og bryggmester Vemund vil ta oss med på en reise i ølets verden. Ingen reise uten smaksprøver\, så det blir selvfølgelig også ølsmaking\, med øl fra inn- og utland. Og til slutt serverer vi en enkel\, men veldig god\, middag. Arrangementet koster 600\,-\, og inkluderer mat\, drikke og foredrag.\nMeld deg på ved å sende en epost til post@kaffelarsen.com eller ved å ringe 476 88 692.\n\nVelkommen!
URL:https://medlem.hanen.no/arrangement/olsmaking-hos-kaffelarsen/
LOCATION:Linnavegen 333\, Åsnes
CATEGORIES:Hedmark
ATTACH;FMTTYPE=image/jpeg:https://medlem.hanen.no/wp-content/uploads/2015/04/11164577_468933253275934_6969289254929023680_n.jpg
ORGANIZER;CN="Kaffelarsen":MAILTO:post@kaffelarsen.com
END:VEVENT
END:VCALENDAR