BEGIN:VCALENDAR
VERSION:2.0
PRODID:-//HANEN - ECPv4.3.2//NONSGML v1.0//EN
CALSCALE:GREGORIAN
METHOD:PUBLISH
X-WR-CALNAME:HANEN
X-ORIGINAL-URL:https://medlem.hanen.no
X-WR-CALDESC:Events for HANEN
BEGIN:VEVENT
DTSTART;TZID=Europe/Oslo:20170701T080000
DTEND;TZID=Europe/Oslo:20170827T170000
DTSTAMP:20260421T084148
CREATED:20170606T082341Z
LAST-MODIFIED:20170606T082341Z
UID:19469-1498896000-1503853200@medlem.hanen.no
SUMMARY:Økologisk jordbærcafé på Møystad Gård
DESCRIPTION:1. juli åpner sommer cafeen på Møystad. Våre økologiske jordbær er utgangspunktet for den kortreiste menyen med salater\, smørbrød\, burgere og kaker. For ikke å glemme jordbærmilkshaken vår\, med is fra Bakken Øvre. Vi åpner stuer og hage hver helg ut august.\n\nLes mer
URL:https://medlem.hanen.no/arrangement/okologisk-jordbaercafe-pa-moystad-gard/
LOCATION:Olsrudvegen 33\, Ridabu\, Hedmark\, 2322\, Norge
GEO:60.8009973;11.1742132
X-APPLE-STRUCTURED-LOCATION;VALUE=URI;X-ADDRESS=Olsrudvegen 33 Ridabu Hedmark 2322 Norge;X-APPLE-RADIUS=500;X-TITLE=Olsrudvegen 33:geo:11.1742132,60.8009973
CATEGORIES:Hedmark
ATTACH;FMTTYPE=image/gif:https://medlem.hanen.no/wp-content/uploads/2017/06/Møystad.gif
ORGANIZER;CN="M%C3%B8ystad%20G%C3%A5rd%20Catering%20og%20Cafe":MAILTO:mat@moystadgard.no
END:VEVENT
END:VCALENDAR