BEGIN:VCALENDAR
VERSION:2.0
PRODID:-//HANEN - ECPv4.3.2//NONSGML v1.0//EN
CALSCALE:GREGORIAN
METHOD:PUBLISH
X-WR-CALNAME:HANEN
X-ORIGINAL-URL:https://medlem.hanen.no
X-WR-CALDESC:Events for HANEN
BEGIN:VEVENT
DTSTART;TZID=Europe/Oslo:20130831T100000
DTEND;TZID=Europe/Oslo:20130831T170000
DTSTAMP:20260420T095348
CREATED:20130826T075440Z
LAST-MODIFIED:20130826T075624Z
UID:801-1377943200-1377968400@medlem.hanen.no
SUMMARY:Økologisk Gårdsmarked og Hagedager
DESCRIPTION:Velkommen til Økologisk Gårdsmarked og Hagedager med nyhøstede grønnsaker og blomstrende have!\n31 aug. - 1 sept. Kl. 10 - 17.\nMarkedsplass med plante-\, grønnsak-\, egg- og honningsalg og Ramme gårdscafé er åpent fra kl. 10-17.\n\nHavlystparken er åpen fra 11-17. Her kan du gå på oppdagelse på egenhånd\, eller bli med på guidet vandring med en av våre gartnere hver hele time fra kl. 12-15.\n\nEntré til Havlystparken inkludert omvisning; kr. 120\,-. Honnør/student; kr 80\,-. Barn under 16 år går gratis.\n\nTur med hest og vogn mellom 13-15.\nRebusløype og rundballemaling blir det også!\n\nGrisunger\, svaner\, hester\, høner og alle oss andre på Ramme Gaard ønsker dere varmt velkommen!\n\nI tillegg kommer også:\nKrukkegården- Diverse hageutstyr\, krukker og planter.\nBlomsterhagen- Økologiske snittblomster\nGarden Living- Spennende stauder\nChhirring Tamang- Nepalesisk håndverk\nBiodynamiskførening- Info om biodynamiken\n\nKun lørdag:\nJonny Andresen- Fler spennende stauder\nBritt Andersson- Stauder fra Gerbianska og Peter Korn\n\nDet blir en strålende helg!
URL:https://medlem.hanen.no/arrangement/okologisk-gardsmarked-og-hagedager/2013-08-31/
LOCATION:Rammeveien 96\, Hvitsten\, 1545\, Norge
GEO:59.6090127;10.6558366
X-APPLE-STRUCTURED-LOCATION;VALUE=URI;X-ADDRESS=Rammeveien 96 Hvitsten 1545 Norge;X-APPLE-RADIUS=500;X-TITLE=Rammeveien 96:geo:10.6558366,59.6090127
CATEGORIES:Akershus
ATTACH;FMTTYPE=image/jpeg:https://medlem.hanen.no/wp-content/uploads/2013/08/filer-bilder-hagedager-hagevandring_mg_7384-500x357.jpg
ORGANIZER;CN="Ramme%20Gaard":MAILTO:post@rammegaard.no
END:VEVENT
END:VCALENDAR