BEGIN:VCALENDAR
VERSION:2.0
PRODID:-//HANEN - ECPv4.3.2//NONSGML v1.0//EN
CALSCALE:GREGORIAN
METHOD:PUBLISH
X-WR-CALNAME:HANEN
X-ORIGINAL-URL:https://medlem.hanen.no
X-WR-CALDESC:Events for HANEN
BEGIN:VEVENT
DTSTART;VALUE=DATE:20130831
DTEND;VALUE=DATE:20130901
DTSTAMP:20260420T084042
CREATED:20130828T122028Z
LAST-MODIFIED:20130828T122610Z
UID:817-1377907200-1378079999@medlem.hanen.no
SUMMARY:Økologisk gårdsmarked og hagedager på Ramme Gaard
DESCRIPTION:Velkommen til Økologisk Gårdsmarked og Hagedager med nyhøstede grønnsaker og blomstrende have!\n\n31. august og 1. september kl. 10 - 17.\n\nMarkedsplass med salg av planter\, grønnsaker\, egg og honning. Ramme gårdscafé er åpen fra kl. 10-17.\n\n \n\nHavlystparken er åpen fra 11-17. Her kan du gå på oppdagelse på egenhånd\, eller bli med på guidet vandring med en av våre gartnere hver hele time fra kl. 12-15.\n\n \n\nEntré til Havlystparken inkludert omvisning; kr. 120\,-. Honnør/student; kr 80\,-. Barn under 16 år går gratis.\n\n \n\nTur med hest og vogn mellom 13-15.\n\nRebusløype og rundballemaling blir det også!\n\n \n\nGrisunger\, svaner\, hester\, høner og alle oss andre på Ramme Gaard ønsker dere varmt velkommen!\n\n \n\nI tillegg kommer også:\n\nKrukkegården- Diverse hageutstyr\, krukker og planter.\n\nBlomsterhagen- Økologiske snittblomster\n\nGarden Living- Spennende stauder\n\nChhirring Tamang- Nepalesisk håndverk\n\nBiodynamiskførening- Info om biodynamiken\n\n \n\nKun lørdag:\n\nJonny Andresen- Flere spennende stauder\n\nBritt Andersson- Stauder fra Gerbianska og Peter Korn\n\n \n\nDet blir en strålende helg!
URL:https://medlem.hanen.no/arrangement/okologisk-gardsmarked-og-hagedager-pa-ramme-gaard/
LOCATION:Rammeveien 96\, Hvitsten\, Akershus\, 1545\, Norge
GEO:59.6090127;10.6558366
X-APPLE-STRUCTURED-LOCATION;VALUE=URI;X-ADDRESS=Rammeveien 96 Hvitsten Akershus 1545 Norge;X-APPLE-RADIUS=500;X-TITLE=Rammeveien 96:geo:10.6558366,59.6090127
CATEGORIES:Akershus
ATTACH;FMTTYPE=image/jpeg:https://medlem.hanen.no/wp-content/uploads/2013/08/Ramme-flyfoto-lite.jpg
ORGANIZER;CN="Ramme%20Gaard":MAILTO:post@rammegaard.no
END:VEVENT
END:VCALENDAR