BEGIN:VCALENDAR
VERSION:2.0
PRODID:-//HANEN - ECPv4.3.2//NONSGML v1.0//EN
CALSCALE:GREGORIAN
METHOD:PUBLISH
X-WR-CALNAME:HANEN
X-ORIGINAL-URL:https://medlem.hanen.no
X-WR-CALDESC:Events for HANEN
BEGIN:VEVENT
DTSTART;TZID=Europe/Oslo:20150501T110000
DTEND;TZID=Europe/Oslo:20150501T160000
DTSTAMP:20260420T100852
CREATED:20150415T104522Z
LAST-MODIFIED:20150415T104522Z
UID:2433-1430478000-1430496000@medlem.hanen.no
SUMMARY:Nyåpning av stabburskafeen
DESCRIPTION:Fredag 1.mai kl. 11.00 er det klart for åpning av den nye kafeen og gårdsbutikken i stabburet på Sigstad Gård. På åpningsdagen vil det være masse smaksprøver på produktene vi selger\, og gratis kaffe til alle våre gjester. Vi serverer kortreist lunsjmeny og deilig hjemmebakst. Vi kommer også til å ha en vegetarrett tilgjengelig på menyen hver dag. Menyen vil bli laget ut ifra sesong og tilgjengelige råvarer. I gårdsbutikken er hovedfokus mat og kortreist mat. Vi kommer til å ha hovedsaklig råvarer fra Hedmark og Oppland inne i butikken\, men finner vi noe spesielt og veldig godt får det en plass hos oss. Her har du mulighet til å gjøre en hyggelig helgehandel. Vi lager også gavepakninger for de som ønsker å gi bort en hyggelig gave.\n\nI tillegg kan du hver lørdag forhåndsbestille lørdagskassen som inneholder kortreiste råvarer og oppskrift for å lage en hyggelig helgemiddag. I åpningshelgen kan dere til lørdagen forhåndsbestille Mjøsarellaburger m / hjemmelagde hamburgerbrød\, coleslaw\, ovnsbakte poteter og hjemmelaget BBQ-dressing. Ta kontakt med oss på lordagskassen@gmail.com hvis dere ønsker å bestille eller ønsker mer informasjon.\nNB! Må bestilles innen 25.april for de som ønsker å prøve dette i åpningshelgen. Bestiller du dette i åpningshelgen vår vil du få med en rabattkupong som gir 10 % rabatt på neste bestilling.\n\nÅpningshelgen har vi åpent fredag - søndag 11 (12) - 16\nUtover dette hver lørdag og søndag 11 (12) - 16\nI juli har vi åpent torsdag - søndag 11 (12) - 16\n\nSe mer på www.sigstadgaard.no
URL:https://medlem.hanen.no/arrangement/nyapning-av-stabburskafeen/
LOCATION:Øverbygdsveien 87\, Biri\, Oppland\, 2836\, Norge
GEO:60.9598034;10.5894844
X-APPLE-STRUCTURED-LOCATION;VALUE=URI;X-ADDRESS=Øverbygdsveien 87 Biri Oppland 2836 Norge;X-APPLE-RADIUS=500;X-TITLE=Øverbygdsveien 87:geo:10.5894844,60.9598034
CATEGORIES:Oppland
ATTACH;FMTTYPE=image/jpeg:https://medlem.hanen.no/wp-content/uploads/2015/04/19821_961347913897876_1204909813984367897_n.jpg
ORGANIZER;CN="Sigstad%20G%C3%A5rd":MAILTO:julie@sigstadgaard.no
END:VEVENT
END:VCALENDAR