BEGIN:VCALENDAR
VERSION:2.0
PRODID:-//HANEN - ECPv4.3.2//NONSGML v1.0//EN
CALSCALE:GREGORIAN
METHOD:PUBLISH
X-WR-CALNAME:HANEN
X-ORIGINAL-URL:https://medlem.hanen.no
X-WR-CALDESC:Events for HANEN
BEGIN:VEVENT
DTSTART;TZID=Europe/Oslo:20160318T200000
DTEND;TZID=Europe/Oslo:20160318T230000
DTSTAMP:20260421T101409
CREATED:20160303T082010Z
LAST-MODIFIED:20160303T082010Z
UID:14130-1458331200-1458342000@medlem.hanen.no
SUMMARY:Musikk-kveld med Perry og Persa
DESCRIPTION:Endelig skal vi ha en musikk-kveld igjen. Det er Perry og Persa som skal ordne med god stemning i puben. Vi åpner dørene kl. 20:00. Musikken vil starte rundt kl. 22:00.\nInngang kr. 100\,-\n18 års-grense\nHjertelig velkommen!
URL:https://medlem.hanen.no/arrangement/musikk-kveld-med-perry-og-persa/
LOCATION:Singsås\, Sør-Trøndelag\, 7387\, Norge
GEO:62.956111;10.730556
CATEGORIES:Sør-Trøndelag
ATTACH;FMTTYPE=image/jpeg:https://medlem.hanen.no/wp-content/uploads/2016/03/12804792_935794876518745_5118255648679690613_n.jpg
ORGANIZER;CN="Storstuu%20Winsnes":MAILTO:annemarit@winsnes.info
END:VEVENT
END:VCALENDAR