BEGIN:VCALENDAR
VERSION:2.0
PRODID:-//HANEN - ECPv4.3.2//NONSGML v1.0//EN
CALSCALE:GREGORIAN
METHOD:PUBLISH
X-WR-CALNAME:HANEN
X-ORIGINAL-URL:https://medlem.hanen.no
X-WR-CALDESC:Events for HANEN
BEGIN:VEVENT
DTSTART;TZID=Europe/Oslo:20170611T180000
DTEND;TZID=Europe/Oslo:20170611T210000
DTSTAMP:20260421T084231
CREATED:20170516T122504Z
LAST-MODIFIED:20170516T122504Z
UID:19228-1497204000-1497214800@medlem.hanen.no
SUMMARY:Mona Nylin hos Anne på Landet cafè & galleri
DESCRIPTION:Søndag 11.juni kommer Mona Nylin tillbake med sine bevegende sanger om livet och kjærligheten og om å "säga som det är". Hun har nylig gitt ut en av sina sanger på plateselskapet Grammofon. Den heter nettopp "Säg som det är" og bl. a. den vil hun framføre i løpet av søndagskvelden.\n\nLes mer
URL:https://medlem.hanen.no/arrangement/mona-nylin-hos-anne-pa-landet-cafe-galleri/
LOCATION:Hylleråsvegen 10\, Engerdal\, 2440
GEO:61.6342868;12.0288921
X-APPLE-STRUCTURED-LOCATION;VALUE=URI;X-ADDRESS=Hylleråsvegen 10 Engerdal 2440;X-APPLE-RADIUS=500;X-TITLE=Hylleråsvegen 10:geo:12.0288921,61.6342868
CATEGORIES:Hedmark
ATTACH;FMTTYPE=image/gif:https://medlem.hanen.no/wp-content/uploads/2017/05/Anne-på-landet.gif
ORGANIZER;CN="Anne%20p%C3%A5%20landet":MAILTO:hei@annejarulf.no
END:VEVENT
END:VCALENDAR