BEGIN:VCALENDAR
VERSION:2.0
PRODID:-//HANEN - ECPv4.3.2//NONSGML v1.0//EN
CALSCALE:GREGORIAN
METHOD:PUBLISH
X-WR-CALNAME:HANEN
X-ORIGINAL-URL:https://medlem.hanen.no
X-WR-CALDESC:Events for HANEN
BEGIN:VEVENT
DTSTART;VALUE=DATE:20150626
DTEND;VALUE=DATE:20150628
DTSTAMP:20260420T083753
CREATED:20150222T172029Z
LAST-MODIFIED:20150222T172029Z
UID:2287-1435276800-1435535999@medlem.hanen.no
SUMMARY:Midtsommardagar i  Norddal
DESCRIPTION:Midtsommardagar vert arrangert i Norddal kvart år i helga som er nermast Jonsok. Ein tredagars folkefest med konsertar\, marknad\, ungdomsleir\, bryggedans\, båtseminar\, fjellturar og mykje anna. Velkomen!
URL:https://medlem.hanen.no/arrangement/midtsommardagar-i-norddal/
LOCATION:6214 Norddal\, Norddal\, Norge
GEO:62.2518252;7.2379064
X-APPLE-STRUCTURED-LOCATION;VALUE=URI;X-ADDRESS=6214 Norddal Norddal Norge;X-APPLE-RADIUS=500;X-TITLE=6214 Norddal:geo:7.2379064,62.2518252
CATEGORIES:Møre og Romsdal
ATTACH;FMTTYPE=image/jpeg:https://medlem.hanen.no/wp-content/uploads/2015/02/10923548_981450675251996_7179418844893231250_n.jpg
ORGANIZER;CN="Midtsommardagar":MAILTO:heim@melchiorgarden.no
END:VEVENT
END:VCALENDAR