BEGIN:VCALENDAR
VERSION:2.0
PRODID:-//HANEN - ECPv4.3.2//NONSGML v1.0//EN
CALSCALE:GREGORIAN
METHOD:PUBLISH
X-WR-CALNAME:HANEN
X-ORIGINAL-URL:https://medlem.hanen.no
X-WR-CALDESC:Events for HANEN
BEGIN:VEVENT
DTSTART;VALUE=DATE:20170722
DTEND;VALUE=DATE:20170722
DTSTAMP:20260421T083935
CREATED:20170106T131222Z
LAST-MODIFIED:20170106T131222Z
UID:17681-1500681600-1500767999@medlem.hanen.no
SUMMARY:Middelalderdag på Langedrag
DESCRIPTION:Velkommen til middelalderstemning med oppvisning og ridderturnering\, kappleiker\, mat på bål\, salgsboder og middelalderaktiviteter for store og små. Alt dette i et mylder av dyr og vakker natur\n\nMer info
URL:https://medlem.hanen.no/arrangement/middelalderdag-pa-langedrag-2/
LOCATION:Tunhov\, Nesbyen\, 3540
GEO:60.4610728;8.7633544
X-APPLE-STRUCTURED-LOCATION;VALUE=URI;X-ADDRESS=Tunhov Nesbyen 3540;X-APPLE-RADIUS=500;X-TITLE=Tunhov:geo:8.7633544,60.4610728
CATEGORIES:Buskerud
ATTACH;FMTTYPE=image/jpeg:https://medlem.hanen.no/wp-content/uploads/2017/01/middel.jpg
ORGANIZER;CN="Langedrag%20Naturpark":MAILTO:tuva@langedrag.no
END:VEVENT
END:VCALENDAR