BEGIN:VCALENDAR
VERSION:2.0
PRODID:-//HANEN - ECPv4.3.2//NONSGML v1.0//EN
CALSCALE:GREGORIAN
METHOD:PUBLISH
X-WR-CALNAME:HANEN
X-ORIGINAL-URL:https://medlem.hanen.no
X-WR-CALDESC:Events for HANEN
BEGIN:VEVENT
DTSTART;TZID=Europe/Oslo:20170512T190000
DTEND;TZID=Europe/Oslo:20170512T235500
DTSTAMP:20260421T083935
CREATED:20170316T134638Z
LAST-MODIFIED:20170316T134749Z
UID:18148-1494615600-1494633300@medlem.hanen.no
SUMMARY:Matopplevelser hos Smakfulle Rom
DESCRIPTION:Fredag 12. mai inviterer vi til ekte matopplevelser i våre flotte lokaler midt mellom Oslo og Gardermoen. Vi lover en sanselig opplevelse - ikke gå glipp av dette!\n\nLes mer
URL:https://medlem.hanen.no/arrangement/matopplevelser-hos-smakfulle-rom/
LOCATION:Asakveien 115\, Sørum\, 1923 
GEO:60.0356712;11.1874079
X-APPLE-STRUCTURED-LOCATION;VALUE=URI;X-ADDRESS=Asakveien 115 Sørum 1923;X-APPLE-RADIUS=500;X-TITLE=Asakveien 115:geo:11.1874079,60.0356712
CATEGORIES:Akershus
ATTACH;FMTTYPE=image/jpeg:https://medlem.hanen.no/wp-content/uploads/2017/03/sk.jpg
ORGANIZER;CN="Smakfulle%20Rom":MAILTO:booking@smakfullerom.no
END:VEVENT
END:VCALENDAR