BEGIN:VCALENDAR
VERSION:2.0
PRODID:-//HANEN - ECPv4.3.2//NONSGML v1.0//EN
CALSCALE:GREGORIAN
METHOD:PUBLISH
X-WR-CALNAME:HANEN
X-ORIGINAL-URL:https://medlem.hanen.no
X-WR-CALDESC:Events for HANEN
BEGIN:VEVENT
DTSTART;TZID=Europe/Oslo:20161028T193000
DTEND;TZID=Europe/Oslo:20161030T170000
DTSTAMP:20260421T084044
CREATED:20161011T125209Z
LAST-MODIFIED:20161011T125209Z
UID:17040-1477683000-1477846800@medlem.hanen.no
SUMMARY:Mathelg med tradisjoner
DESCRIPTION:Vi ønsker velkommen til en ny mathelg\, hvor vi ønsker å formidle tradisjoner og matgleder fra området. I årene 1989 til 2002 fylte Brekken Husmorlag opp samfunnshuset i Brekken en helg i året\, og serverte «gammelmat» fra området rundt Aursunden. Brekken Husmorlag har lagt ned en betydelig innsats for at de lokale mattradisjonene skal bli tatt vare på. Vi fortsetter arven og inviterer til et rikholdig matbord med retter av lokale råvarer tilberedt etter gamle oppskrifter.\n\nFredagen 28.oktober inviterer vi til bok og mattreff i Skottgården hvor vi får besøk av forfatter Øivind Hånes. Han og Jorid vil snakke om Brekken som matfat og kokeboken Eventyrlig: Jakten på de beste norske råvarene.\nSe eget arrangement for mer informasjon\nhttps://www.facebook.com/events/1245910412126016/\n\nOgså i år har vi inkludert muligheten til å delta på kurs. Lørdagen blir det kurs i kjøttrull-sying med Stensaasen og baking av flatbrød med Brekken Husmorlag. Det er begrenset plasser på kjøttrull-kursert\, så det er førstemann til mølla. I tillegg til trivelig selskap med likesinnede matentusiaster serverer vi “gammelmat” etter de gode gamle oppskriftene.\n\nDenne helga serverer vi blant annet kjøttrull\, grovpølse og flesk med kjøttrullsuppe.\nLeverkaker\, sik kaker\, klubb og duppe\, blodpudding\, rakfisk\, tørket rein og elg kjøtt. Hjemme bakt flatbrød\, lemse\, pjalt\, hyllkake\, blodhyllkake. På dessertbordet står kjinnmjølksuppe\, mølske\, rugmjølsgraut\, mjølksuppe og mye mer.\n\nMer informasjon kommer fortløpende.\n\nFoto: Marius Rua
URL:https://medlem.hanen.no/arrangement/mathelg-med-tradisjoner-4/
LOCATION:Vauldalen\, Brekkebygd\, Sør-Trøndelag\, 7370\, Norge
GEO:62.6379897;12.0266145
X-APPLE-STRUCTURED-LOCATION;VALUE=URI;X-ADDRESS=Vauldalen Brekkebygd Sør-Trøndelag 7370 Norge;X-APPLE-RADIUS=500;X-TITLE=Vauldalen:geo:12.0266145,62.6379897
CATEGORIES:Sør-Trøndelag
ATTACH;FMTTYPE=image/jpeg:https://medlem.hanen.no/wp-content/uploads/2016/10/RUA_3482-kopi-1.jpg
ORGANIZER;CN="Vauldalen%20Fjellhotell":MAILTO:post@vauldalenfjellhotell.no
END:VEVENT
END:VCALENDAR