BEGIN:VCALENDAR
VERSION:2.0
PRODID:-//HANEN - ECPv4.3.2//NONSGML v1.0//EN
CALSCALE:GREGORIAN
METHOD:PUBLISH
X-WR-CALNAME:HANEN
X-ORIGINAL-URL:https://medlem.hanen.no
X-WR-CALDESC:Events for HANEN
BEGIN:VEVENT
DTSTART;TZID=Europe/Oslo:20160713T170000
DTEND;TZID=Europe/Oslo:20160713T193000
DTSTAMP:20260421T083902
CREATED:20160510T082900Z
LAST-MODIFIED:20160510T082900Z
UID:14733-1468429200-1468438200@medlem.hanen.no
SUMMARY:Maria Mena m/musikere
DESCRIPTION:"Hele Norges Maria Mena trer endelig frem fra stillheten med sitt syvende studioalbum ”Growing Pains”.\n\nBesøk vår hjemmeside for billetter og informasjon om våre ulike "konsertpakker" til dette arrangementet.\n\nMer informasjon info@baroniet.no\n\n \n\nVelkommen!
URL:https://medlem.hanen.no/arrangement/maria-mena-mmusikere/
LOCATION:Postboks 235\, Rosendal\, 5486 
CATEGORIES:Hordaland
ATTACH;FMTTYPE=image/png:https://medlem.hanen.no/wp-content/uploads/2016/05/Skjermbilde-12.png
ORGANIZER;CN="Baroniet%20Rosendal%20":MAILTO:info@baroniet.no
END:VEVENT
END:VCALENDAR