BEGIN:VCALENDAR
VERSION:2.0
PRODID:-//HANEN - ECPv4.3.2//NONSGML v1.0//EN
CALSCALE:GREGORIAN
METHOD:PUBLISH
X-WR-CALNAME:HANEN
X-ORIGINAL-URL:https://medlem.hanen.no
X-WR-CALDESC:Events for HANEN
BEGIN:VEVENT
DTSTART;TZID=Europe/Oslo:20150815T200000
DTEND;TZID=Europe/Oslo:20150815T220000
DTSTAMP:20260422T083956
CREATED:20150701T094823Z
LAST-MODIFIED:20150701T095634Z
UID:12678-1439668800-1439676000@medlem.hanen.no
SUMMARY:Låveteater: «Ibsens kvinner – sett en ørn i bur»
DESCRIPTION:På Piltingsrud Gård blir det låveteater av Juni Dahr "Ibsens kvinner - sett en ørn i bur" 15.august 2015!\n\nForestillingen viser seks av Henrik Ibsens kvinneskikkelser. I løpet av ca en time følger vi Juni Dahrs møte med Hilde\, Hedda\, fru Alving\, Nora\, Ellida og Hjørdis. Henrik Ibsens tekster er vevet sammen med hennes egne tanker og refleksjoner rundt rollenes styrke og sårbarhet og det underliggende temaet i all Ibsens diktning: lengselen etter frihet\n\nLes mer
URL:https://medlem.hanen.no/arrangement/laveteater-ibsens-kvinner-sett-en-orn-i-bur/
LOCATION:Piltingsrud gard\, Begna\, 2937\, Norge
GEO:60.6681902;9.9221498
X-APPLE-STRUCTURED-LOCATION;VALUE=URI;X-ADDRESS=Piltingsrud gard Begna 2937 Norge;X-APPLE-RADIUS=500;X-TITLE=Piltingsrud gard:geo:9.9221498,60.6681902
CATEGORIES:Oppland
ATTACH;FMTTYPE=image/jpeg:https://medlem.hanen.no/wp-content/uploads/2015/07/11694038_1087754764586869_7336126562135429882_n.jpg
ORGANIZER;CN="Rasmus%20Piltingsrud":MAILTO:post@piltingsrud.no
END:VEVENT
END:VCALENDAR