BEGIN:VCALENDAR
VERSION:2.0
PRODID:-//HANEN - ECPv4.3.2//NONSGML v1.0//EN
CALSCALE:GREGORIAN
METHOD:PUBLISH
X-WR-CALNAME:HANEN
X-ORIGINAL-URL:https://medlem.hanen.no
X-WR-CALDESC:Events for HANEN
BEGIN:VEVENT
DTSTART;TZID=Europe/Oslo:20150905T190000
DTEND;TZID=Europe/Oslo:20150905T235500
DTSTAMP:20260420T084203
CREATED:20150828T080550Z
LAST-MODIFIED:20150828T080550Z
UID:12844-1441479600-1441497300@medlem.hanen.no
SUMMARY:Låvedans med bandet Cosmic på Øvre Sukke Gård
DESCRIPTION:Velkommen til en kveld med dans og morro. I baren selger vi øl fra Færder Mikrobryggeri​ og på låvebrua blir det grillet økologiske pølser av frilandsgris fra Grøstad​s glade griser! Dørene åpner klokka 19:00\, og bandet spiller til dans fra klokka 20:00. Inngang kr. 200\,-\n\nMuligheter for overnatting på B&B\n\nPåmelding / reservasjon: post@sukkegard.no
URL:https://medlem.hanen.no/arrangement/lavedans-med-bandet-cosmic-pa-ovre-sukke-gard/
LOCATION:Kjønnerødveien 251\, Ramnes i Vestfold\, Ramnes\, 3175\, Norge
GEO:59.3849681;10.2021372
X-APPLE-STRUCTURED-LOCATION;VALUE=URI;X-ADDRESS=Kjønnerødveien 251 Ramnes i Vestfold Ramnes 3175 Norge;X-APPLE-RADIUS=500;X-TITLE=Kjønnerødveien 251:geo:10.2021372,59.3849681
CATEGORIES:Vestfold
ATTACH;FMTTYPE=image/jpeg:https://medlem.hanen.no/wp-content/uploads/2015/08/DSC_0107.jpg
ORGANIZER;CN="%C3%98vre%20Sukke%20G%C3%A5rd":MAILTO:post@sukkegard.no
END:VEVENT
END:VCALENDAR