BEGIN:VCALENDAR
VERSION:2.0
PRODID:-//HANEN - ECPv4.3.2//NONSGML v1.0//EN
CALSCALE:GREGORIAN
METHOD:PUBLISH
X-WR-CALNAME:HANEN
X-ORIGINAL-URL:https://medlem.hanen.no
X-WR-CALDESC:Events for HANEN
BEGIN:VEVENT
DTSTART;TZID=Europe/Oslo:20170330T183000
DTEND;TZID=Europe/Oslo:20170330T210000
DTSTAMP:20260421T083850
CREATED:20170210T100326Z
LAST-MODIFIED:20170210T100326Z
UID:17926-1490898600-1490907600@medlem.hanen.no
SUMMARY:Lær å dyrke østerssopp
DESCRIPTION:Fra kaffekopp til østerssopp\nLær å dyrke gourmetsopp i kaffegrut.\nSiri Mittet - se www.gruten.no - holder et praktisk kurs på Holt gård hvor du lærer metoden for å dyrke østerssopp i kaffegrut. Og får ta med din egen dyrkingspakke hjem.\n\nLes mer
URL:https://medlem.hanen.no/arrangement/laer-a-dyrke-osterssopp/
LOCATION:Grøumveien 229\, UNDRUMSDAL\, Norway\, 3176\, Norge
CATEGORIES:Vestfold
ATTACH;FMTTYPE=image/jpeg:https://medlem.hanen.no/wp-content/uploads/2017/02/holt.jpg
ORGANIZER;CN="Holt%20G%C3%A5rd":MAILTO:post@holtgard.no
END:VEVENT
END:VCALENDAR