BEGIN:VCALENDAR
VERSION:2.0
PRODID:-//HANEN - ECPv4.3.2//NONSGML v1.0//EN
CALSCALE:GREGORIAN
METHOD:PUBLISH
X-WR-CALNAME:HANEN
X-ORIGINAL-URL:https://medlem.hanen.no
X-WR-CALDESC:Events for HANEN
BEGIN:VEVENT
DTSTART;TZID=Europe/Oslo:20180530T203000
DTEND;TZID=Europe/Oslo:20180530T203000
DTSTAMP:20260420T084151
CREATED:20180403T125550Z
LAST-MODIFIED:20180403T125612Z
UID:21614-1527712200-1527712200@medlem.hanen.no
SUMMARY:Kveli Rånes Bremset // Det e itj størrelsa det kjæm an på
DESCRIPTION:Godt humør hjelp mot det meste\, og i Rudilåven er det tradisjon for å slå opp latterdøra på vidt gap. Denne fabelaktige trøndertrioen er ute med sitt femte show\, og enda ein gong overfyller dei trønderske forsamlingshus med folk.\n\nKvifor har meir enn 70.000 sett dei elleville forestillingane med Kveli Rånes Bremseth? Kanskje er det kombinasjonen av nyskrivne songar og gamle allsongslagarar\, humor som ikkje er ondsinna\, og dei originale figurane som prøver å takle kvardagsutfordringer som\nnabokrangel\, kjærligleik\, for mykje penger\, for lite penger og usikre familieforhold.\n\nDu får vanvittige historier med presisjon og snert\, god musikk\, og tre trønderske godkarar i storform!\n\nBillett 330\,- / 100\,- under 18 år\n\nMeny: Kulturgris ála Rudi
URL:https://medlem.hanen.no/arrangement/kveli-ranes-bremset-det-e-itj-storrelsa-det-kjaem-an-pa/
LOCATION:Øvre Rudi\, Sør-Fron\, 2647\, Norge
GEO:61.4797868;9.9273755
X-APPLE-STRUCTURED-LOCATION;VALUE=URI;X-ADDRESS=Øvre Rudi Sør-Fron 2647 Norge;X-APPLE-RADIUS=500;X-TITLE=Øvre Rudi:geo:9.9273755,61.4797868
CATEGORIES:Oppland
ATTACH;FMTTYPE=image/jpeg:https://medlem.hanen.no/wp-content/uploads/2018/04/kvevli.jpg
ORGANIZER;CN="Rudi%20Gard":MAILTO:oystein@rudigard.no
END:VEVENT
END:VCALENDAR